BEGIN:VCALENDAR
VERSION:2.0
PRODID:-//Sheppard AFB - ECPv6.15.20//NONSGML v1.0//EN
CALSCALE:GREGORIAN
METHOD:PUBLISH
X-WR-CALNAME:Sheppard AFB
X-ORIGINAL-URL:https://82fss.com
X-WR-CALDESC:Events for Sheppard AFB
REFRESH-INTERVAL;VALUE=DURATION:PT1H
X-Robots-Tag:noindex
X-PUBLISHED-TTL:PT1H
BEGIN:VTIMEZONE
TZID:UTC
BEGIN:STANDARD
TZOFFSETFROM:+0000
TZOFFSETTO:+0000
TZNAME:UTC
DTSTART:20250101T000000
END:STANDARD
END:VTIMEZONE
BEGIN:VEVENT
DTSTART;TZID=UTC:20260424T130000
DTEND;TZID=UTC:20260424T143000
DTSTAMP:20260424T072625
CREATED:20251216T161708Z
LAST-MODIFIED:20251216T170121Z
UID:10010362-1777035600-1777041000@82fss.com
SUMMARY:Physical Fridays for Homeschoolers
DESCRIPTION:
URL:https://82fss.com/event/physical-fridays-for-homeschoolers/2026-04-24/
CATEGORIES:Family,Fitness,Fun
ATTACH;FMTTYPE=image/jpeg:https://82fss.com/wp-content/uploads/2025/12/Physical-Fridays.jpg
END:VEVENT
BEGIN:VEVENT
DTSTART;TZID=UTC:20260424T160000
DTEND;TZID=UTC:20260424T163000
DTSTAMP:20260424T072625
CREATED:20260226T160202Z
LAST-MODIFIED:20260226T160202Z
UID:10012001-1777046400-1777048200@82fss.com
SUMMARY:Heart's Apart Pizza Night
DESCRIPTION:
URL:https://82fss.com/event/hearts-apart-pizza-night/
CATEGORIES:Family,Food
ATTACH;FMTTYPE=image/jpeg:https://82fss.com/wp-content/uploads/2026/02/Hearts-Apart-Pizza.jpg
END:VEVENT
BEGIN:VEVENT
DTSTART;TZID=UTC:20260424T170000
DTEND;TZID=UTC:20260424T190000
DTSTAMP:20260424T072625
CREATED:20260224T161051Z
LAST-MODIFIED:20260224T161051Z
UID:10011625-1777050000-1777057200@82fss.com
SUMMARY:Homeschool Family Game Night
DESCRIPTION:
URL:https://82fss.com/event/homeschool-family-game-night/
CATEGORIES:Family,Food,Fun
ATTACH;FMTTYPE=image/jpeg:https://82fss.com/wp-content/uploads/2025/12/Homeschool-Family-Nights.jpg
END:VEVENT
BEGIN:VEVENT
DTSTART;TZID=UTC:20260424T210000
DTEND;TZID=UTC:20260424T233000
DTSTAMP:20260424T072625
CREATED:20250911T172724Z
LAST-MODIFIED:20250911T172724Z
UID:10008929-1777064400-1777073400@82fss.com
SUMMARY:Dance Till You Drop
DESCRIPTION:
URL:https://82fss.com/event/dance-till-you-drop/2026-04-24/
CATEGORIES:Fun
ATTACH;FMTTYPE=image/jpeg:https://82fss.com/wp-content/uploads/2025/09/Dance-Til-You-Drop-Karaoke-Night.jpg
END:VEVENT
BEGIN:VEVENT
DTSTART;TZID=UTC:20260425T070000
DTEND;TZID=UTC:20260425T170000
DTSTAMP:20260424T072625
CREATED:20260312T180623Z
LAST-MODIFIED:20260312T180623Z
UID:10012119-1777100400-1777136400@82fss.com
SUMMARY:Kayak the Brazos River Trip
DESCRIPTION:
URL:https://82fss.com/event/kayak-the-brazos-river-trip/
CATEGORIES:Family,Food,Fun
ATTACH;FMTTYPE=image/jpeg:https://82fss.com/wp-content/uploads/2026/03/April-ODR-Trips.jpg
END:VEVENT
BEGIN:VEVENT
DTSTART;TZID=UTC:20260425T100000
DTEND;TZID=UTC:20260425T160000
DTSTAMP:20260424T072625
CREATED:20251216T162448Z
LAST-MODIFIED:20251216T162448Z
UID:10010465-1777111200-1777132800@82fss.com
SUMMARY:South Lanes Red Pin Bowling
DESCRIPTION:
URL:https://82fss.com/event/south-lanes-red-pin-bowling/2026-04-25/
CATEGORIES:Family,Food,Fun
ATTACH;FMTTYPE=image/jpeg:https://82fss.com/wp-content/uploads/2024/08/S-Red-Pin-Bowling.jpg
END:VEVENT
BEGIN:VEVENT
DTSTART;TZID=UTC:20260425T120000
DTEND;TZID=UTC:20260425T170000
DTSTAMP:20260424T072625
CREATED:20251216T162155Z
LAST-MODIFIED:20251216T162155Z
UID:10010415-1777118400-1777136400@82fss.com
SUMMARY:Saturday North Lanes Special
DESCRIPTION:
URL:https://82fss.com/event/saturday-north-lanes-special/2026-04-25/
CATEGORIES:Fun
ATTACH;FMTTYPE=image/jpeg:https://82fss.com/wp-content/uploads/2024/10/Saturday-Special.jpg
END:VEVENT
BEGIN:VEVENT
DTSTART;TZID=UTC:20260425T183000
DTEND;TZID=UTC:20260425T210000
DTSTAMP:20260424T072625
CREATED:20260312T174652Z
LAST-MODIFIED:20260312T174652Z
UID:10012095-1777141800-1777150800@82fss.com
SUMMARY:9 Pin No Tap Tournament
DESCRIPTION:
URL:https://82fss.com/event/9-pin-no-tap-tournament-4/
CATEGORIES:Family,Food,Fun
ATTACH;FMTTYPE=image/jpeg:https://82fss.com/wp-content/uploads/2026/03/APR-JUN-9-Pin-No-Tap-South-Lanes.jpg
END:VEVENT
BEGIN:VEVENT
DTSTART;TZID=UTC:20260425T190000
DTEND;TZID=UTC:20260425T220000
DTSTAMP:20260424T072625
CREATED:20260312T175952Z
LAST-MODIFIED:20260312T175952Z
UID:10012112-1777143600-1777154400@82fss.com
SUMMARY:Poker Night
DESCRIPTION:
URL:https://82fss.com/event/poker-night/
CATEGORIES:Food,Fun
ATTACH;FMTTYPE=image/jpeg:https://82fss.com/wp-content/uploads/2026/03/Poker-Night.jpg
END:VEVENT
BEGIN:VEVENT
DTSTART;TZID=UTC:20260425T210000
DTEND;TZID=UTC:20260425T233000
DTSTAMP:20260424T072625
CREATED:20250911T172816Z
LAST-MODIFIED:20250911T172816Z
UID:10008982-1777150800-1777159800@82fss.com
SUMMARY:Karaoke Night
DESCRIPTION:
URL:https://82fss.com/event/karaoke-night/2026-04-25/
CATEGORIES:Fun
ATTACH;FMTTYPE=image/jpeg:https://82fss.com/wp-content/uploads/2025/09/Dance-Til-You-Drop-Karaoke-Night.jpg
END:VEVENT
BEGIN:VEVENT
DTSTART;TZID=UTC:20260426T120000
DTEND;TZID=UTC:20260426T170000
DTSTAMP:20260424T072625
CREATED:20251216T162823Z
LAST-MODIFIED:20251216T162823Z
UID:10010515-1777204800-1777222800@82fss.com
SUMMARY:North Lanes Red Pin Bowling
DESCRIPTION:
URL:https://82fss.com/event/north-lanes-red-pin-bowling/2026-04-26/
CATEGORIES:Food,Fun
ATTACH;FMTTYPE=image/jpeg:https://82fss.com/wp-content/uploads/2025/01/N-Red-Pin-Bowling.jpg
END:VEVENT
BEGIN:VEVENT
DTSTART;TZID=UTC:20260426T130000
DTEND;TZID=UTC:20260426T170000
DTSTAMP:20260424T072625
CREATED:20260312T175631Z
LAST-MODIFIED:20260312T175631Z
UID:10012107-1777208400-1777222800@82fss.com
SUMMARY:AiT Only 9 Pin No Tap Tournament
DESCRIPTION:
URL:https://82fss.com/event/ait-only-9-pin-no-tap-tournament-2/
CATEGORIES:Food,Fun
ATTACH;FMTTYPE=image/jpeg:https://82fss.com/wp-content/uploads/2026/03/AiT-9-Pin-No-Tap-Apr-Jun.jpg
END:VEVENT
BEGIN:VEVENT
DTSTART;TZID=UTC:20260428T080000
DTEND;TZID=UTC:20260428T110000
DTSTAMP:20260424T072625
CREATED:20260226T160255Z
LAST-MODIFIED:20260226T160255Z
UID:10012002-1777363200-1777374000@82fss.com
SUMMARY:Pre-Arrival Orientation
DESCRIPTION:
URL:https://82fss.com/event/pre-arrival-orientation-2/
CATEGORIES:Family
ATTACH;FMTTYPE=image/jpeg:https://82fss.com/wp-content/uploads/2026/02/Pre-Arrival-Orientation.jpg
END:VEVENT
BEGIN:VEVENT
DTSTART;TZID=UTC:20260429T100000
DTEND;TZID=UTC:20260429T110000
DTSTAMP:20260424T072625
CREATED:20251216T162940Z
LAST-MODIFIED:20251216T162940Z
UID:10010565-1777456800-1777460400@82fss.com
SUMMARY:Story Time
DESCRIPTION:
URL:https://82fss.com/event/story-time/2026-04-29/
CATEGORIES:Family,Fun
ATTACH;FMTTYPE=image/jpeg:https://82fss.com/wp-content/uploads/2024/08/Story-Time.jpg
END:VEVENT
BEGIN:VEVENT
DTSTART;TZID=UTC:20260429T150000
DTEND;TZID=UTC:20260429T200000
DTSTAMP:20260424T072625
CREATED:20260224T142634Z
LAST-MODIFIED:20260224T142634Z
UID:10011510-1777474800-1777492800@82fss.com
SUMMARY:Wing Wednesday
DESCRIPTION:
URL:https://82fss.com/event/wing-wednesday/2026-04-29/
CATEGORIES:Family,Food,Fun
ATTACH;FMTTYPE=image/jpeg:https://82fss.com/wp-content/uploads/2026/02/Wing-Wednesday.jpg
END:VEVENT
BEGIN:VEVENT
DTSTART;TZID=UTC:20260430T180000
DTEND;TZID=UTC:20260430T200000
DTSTAMP:20260424T072625
CREATED:20260224T160347Z
LAST-MODIFIED:20260224T160347Z
UID:10011619-1777572000-1777579200@82fss.com
SUMMARY:Wire Wreath Cocktails & Crafts Class
DESCRIPTION:
URL:https://82fss.com/event/wire-wreath-cocktails-crafts-class/
CATEGORIES:Family,Food,Fun
ATTACH;FMTTYPE=image/jpeg:https://82fss.com/wp-content/uploads/2026/02/Cocktails-Crafts-Mar-May.jpg
END:VEVENT
BEGIN:VEVENT
DTSTART;TZID=UTC:20260501T160000
DTEND;TZID=UTC:20260501T170000
DTSTAMP:20260424T072625
CREATED:20260312T180756Z
LAST-MODIFIED:20260312T180756Z
UID:10012120-1777651200-1777654800@82fss.com
SUMMARY:Fishing Tournament at Lake Texoma
DESCRIPTION:
URL:https://82fss.com/event/fishing-tournament-at-lake-texoma/2026-05-01/
CATEGORIES:Family,Food,Fun
ATTACH;FMTTYPE=image/jpeg:https://82fss.com/wp-content/uploads/2026/03/May-Fishing-Trip.jpg
END:VEVENT
BEGIN:VEVENT
DTSTART;TZID=UTC:20260501T170000
DTEND;TZID=UTC:20260501T220000
DTSTAMP:20260424T072625
CREATED:20260224T144944Z
LAST-MODIFIED:20260324T194706Z
UID:10011569-1777654800-1777672800@82fss.com
SUMMARY:First Friday at Runway Bar & Grill
DESCRIPTION:
URL:https://82fss.com/event/duffys-first-friday/2026-05-01/
CATEGORIES:Food,Fun,Hot Events
ATTACH;FMTTYPE=image/jpeg:https://82fss.com/wp-content/uploads/2026/03/First-Friday.jpg
END:VEVENT
BEGIN:VEVENT
DTSTART;TZID=UTC:20260501T193000
DTEND;TZID=UTC:20260501T210000
DTSTAMP:20260424T072625
CREATED:20260312T181147Z
LAST-MODIFIED:20260312T181147Z
UID:10012123-1777663800-1777669200@82fss.com
SUMMARY:Joint Operations Softball Game
DESCRIPTION:
URL:https://82fss.com/event/joint-operations-softball-game/
CATEGORIES:Family,Fitness,Food,Fun
ATTACH;FMTTYPE=image/jpeg:https://82fss.com/wp-content/uploads/2026/03/FY26-Joint-Operation-Games-Softball.jpg
END:VEVENT
BEGIN:VEVENT
DTSTART;TZID=UTC:20260501T210000
DTEND;TZID=UTC:20260501T233000
DTSTAMP:20260424T072625
CREATED:20250911T172724Z
LAST-MODIFIED:20250911T172724Z
UID:10008930-1777669200-1777678200@82fss.com
SUMMARY:Dance Till You Drop
DESCRIPTION:
URL:https://82fss.com/event/dance-till-you-drop/2026-05-01/
CATEGORIES:Fun
ATTACH;FMTTYPE=image/jpeg:https://82fss.com/wp-content/uploads/2025/09/Dance-Til-You-Drop-Karaoke-Night.jpg
END:VEVENT
BEGIN:VEVENT
DTSTART;TZID=UTC:20260502T080000
DTEND;TZID=UTC:20260502T170000
DTSTAMP:20260424T072625
CREATED:20260219T161228Z
LAST-MODIFIED:20260219T161228Z
UID:10011494-1777708800-1777741200@82fss.com
SUMMARY:$1 Saturday at Afterburner
DESCRIPTION:
URL:https://82fss.com/event/1-saturday-at-afterburner/2026-05-02/
CATEGORIES:Family,Food,Fun
ATTACH;FMTTYPE=image/jpeg:https://82fss.com/wp-content/uploads/2026/02/1-Saturdays.jpg
END:VEVENT
BEGIN:VEVENT
DTSTART;TZID=UTC:20260502T100000
DTEND;TZID=UTC:20260502T160000
DTSTAMP:20260424T072625
CREATED:20251216T162448Z
LAST-MODIFIED:20251216T162448Z
UID:10010466-1777716000-1777737600@82fss.com
SUMMARY:South Lanes Red Pin Bowling
DESCRIPTION:
URL:https://82fss.com/event/south-lanes-red-pin-bowling/2026-05-02/
CATEGORIES:Family,Food,Fun
ATTACH;FMTTYPE=image/jpeg:https://82fss.com/wp-content/uploads/2024/08/S-Red-Pin-Bowling.jpg
END:VEVENT
BEGIN:VEVENT
DTSTART;TZID=UTC:20260502T120000
DTEND;TZID=UTC:20260502T150000
DTSTAMP:20260424T072625
CREATED:20260415T172336Z
LAST-MODIFIED:20260415T172336Z
UID:10012203-1777723200-1777734000@82fss.com
SUMMARY:Dodgeball Competition
DESCRIPTION:
URL:https://82fss.com/event/dodgeball-competition/
CATEGORIES:Family,Fitness,Fun
ATTACH;FMTTYPE=image/jpeg:https://82fss.com/wp-content/uploads/2026/04/Dodgeball-Kickball-Events.jpg
END:VEVENT
BEGIN:VEVENT
DTSTART;TZID=UTC:20260502T120000
DTEND;TZID=UTC:20260502T170000
DTSTAMP:20260424T072625
CREATED:20251216T162155Z
LAST-MODIFIED:20251216T162155Z
UID:10010416-1777723200-1777741200@82fss.com
SUMMARY:Saturday North Lanes Special
DESCRIPTION:
URL:https://82fss.com/event/saturday-north-lanes-special/2026-05-02/
CATEGORIES:Fun
ATTACH;FMTTYPE=image/jpeg:https://82fss.com/wp-content/uploads/2024/10/Saturday-Special.jpg
END:VEVENT
BEGIN:VEVENT
DTSTART;TZID=UTC:20260502T160000
DTEND;TZID=UTC:20260502T170000
DTSTAMP:20260424T072625
CREATED:20260312T180756Z
LAST-MODIFIED:20260312T180756Z
UID:10012121-1777737600-1777741200@82fss.com
SUMMARY:Fishing Tournament at Lake Texoma
DESCRIPTION:
URL:https://82fss.com/event/fishing-tournament-at-lake-texoma/2026-05-02/
CATEGORIES:Family,Food,Fun
ATTACH;FMTTYPE=image/jpeg:https://82fss.com/wp-content/uploads/2026/03/May-Fishing-Trip.jpg
END:VEVENT
BEGIN:VEVENT
DTSTART;TZID=UTC:20260502T183000
DTEND;TZID=UTC:20260502T210000
DTSTAMP:20260424T072625
CREATED:20260312T174741Z
LAST-MODIFIED:20260312T174741Z
UID:10012096-1777746600-1777755600@82fss.com
SUMMARY:9 Pin No Tap Tournament
DESCRIPTION:
URL:https://82fss.com/event/9-pin-no-tap-tournament-5/
CATEGORIES:Family,Food,Fun
ATTACH;FMTTYPE=image/jpeg:https://82fss.com/wp-content/uploads/2026/03/APR-JUN-9-Pin-No-Tap-South-Lanes.jpg
END:VEVENT
BEGIN:VEVENT
DTSTART;TZID=UTC:20260502T190000
DTEND;TZID=UTC:20260502T210000
DTSTAMP:20260424T072625
CREATED:20260224T150905Z
LAST-MODIFIED:20260224T150905Z
UID:10011592-1777748400-1777755600@82fss.com
SUMMARY:Teen Night Hoops
DESCRIPTION:
URL:https://82fss.com/event/teen-night-hoops-5/
CATEGORIES:Family,Fitness,Fun
ATTACH;FMTTYPE=image/jpeg:https://82fss.com/wp-content/uploads/2025/12/Teen-Night-Hoops.jpg
END:VEVENT
BEGIN:VEVENT
DTSTART;TZID=UTC:20260502T210000
DTEND;TZID=UTC:20260502T233000
DTSTAMP:20260424T072625
CREATED:20250911T172816Z
LAST-MODIFIED:20250911T172816Z
UID:10008983-1777755600-1777764600@82fss.com
SUMMARY:Karaoke Night
DESCRIPTION:
URL:https://82fss.com/event/karaoke-night/2026-05-02/
CATEGORIES:Fun
ATTACH;FMTTYPE=image/jpeg:https://82fss.com/wp-content/uploads/2025/09/Dance-Til-You-Drop-Karaoke-Night.jpg
END:VEVENT
BEGIN:VEVENT
DTSTART;TZID=UTC:20260503T120000
DTEND;TZID=UTC:20260503T170000
DTSTAMP:20260424T072625
CREATED:20251216T162823Z
LAST-MODIFIED:20251216T162823Z
UID:10010516-1777809600-1777827600@82fss.com
SUMMARY:North Lanes Red Pin Bowling
DESCRIPTION:
URL:https://82fss.com/event/north-lanes-red-pin-bowling/2026-05-03/
CATEGORIES:Food,Fun
ATTACH;FMTTYPE=image/jpeg:https://82fss.com/wp-content/uploads/2025/01/N-Red-Pin-Bowling.jpg
END:VEVENT
BEGIN:VEVENT
DTSTART;TZID=UTC:20260503T130000
DTEND;TZID=UTC:20260503T170000
DTSTAMP:20260424T072625
CREATED:20260312T175710Z
LAST-MODIFIED:20260312T175710Z
UID:10012108-1777813200-1777827600@82fss.com
SUMMARY:AiT Only 9 Pin No Tap Tournament
DESCRIPTION:
URL:https://82fss.com/event/ait-only-9-pin-no-tap-tournament-3/
CATEGORIES:Food,Fun
ATTACH;FMTTYPE=image/jpeg:https://82fss.com/wp-content/uploads/2026/03/AiT-9-Pin-No-Tap-Apr-Jun.jpg
END:VEVENT
END:VCALENDAR