BEGIN:VCALENDAR
VERSION:2.0
PRODID:-//Sheppard AFB - ECPv6.15.20//NONSGML v1.0//EN
CALSCALE:GREGORIAN
METHOD:PUBLISH
X-WR-CALNAME:Sheppard AFB
X-ORIGINAL-URL:https://82fss.com
X-WR-CALDESC:Events for Sheppard AFB
REFRESH-INTERVAL;VALUE=DURATION:PT1H
X-Robots-Tag:noindex
X-PUBLISHED-TTL:PT1H
BEGIN:VTIMEZONE
TZID:UTC
BEGIN:STANDARD
TZOFFSETFROM:+0000
TZOFFSETTO:+0000
TZNAME:UTC
DTSTART:20250101T000000
END:STANDARD
END:VTIMEZONE
BEGIN:VEVENT
DTSTART;TZID=UTC:20260425T120000
DTEND;TZID=UTC:20260425T170000
DTSTAMP:20260424T072322
CREATED:20251216T162155Z
LAST-MODIFIED:20251216T162155Z
UID:10010415-1777118400-1777136400@82fss.com
SUMMARY:Saturday North Lanes Special
DESCRIPTION:
URL:https://82fss.com/event/saturday-north-lanes-special/2026-04-25/
CATEGORIES:Fun
ATTACH;FMTTYPE=image/jpeg:https://82fss.com/wp-content/uploads/2024/10/Saturday-Special.jpg
END:VEVENT
BEGIN:VEVENT
DTSTART;TZID=UTC:20260502T120000
DTEND;TZID=UTC:20260502T170000
DTSTAMP:20260424T072322
CREATED:20251216T162155Z
LAST-MODIFIED:20251216T162155Z
UID:10010416-1777723200-1777741200@82fss.com
SUMMARY:Saturday North Lanes Special
DESCRIPTION:
URL:https://82fss.com/event/saturday-north-lanes-special/2026-05-02/
CATEGORIES:Fun
ATTACH;FMTTYPE=image/jpeg:https://82fss.com/wp-content/uploads/2024/10/Saturday-Special.jpg
END:VEVENT
BEGIN:VEVENT
DTSTART;TZID=UTC:20260509T120000
DTEND;TZID=UTC:20260509T170000
DTSTAMP:20260424T072322
CREATED:20251216T162155Z
LAST-MODIFIED:20251216T162155Z
UID:10010417-1778328000-1778346000@82fss.com
SUMMARY:Saturday North Lanes Special
DESCRIPTION:
URL:https://82fss.com/event/saturday-north-lanes-special/2026-05-09/
CATEGORIES:Fun
ATTACH;FMTTYPE=image/jpeg:https://82fss.com/wp-content/uploads/2024/10/Saturday-Special.jpg
END:VEVENT
BEGIN:VEVENT
DTSTART;TZID=UTC:20260516T120000
DTEND;TZID=UTC:20260516T170000
DTSTAMP:20260424T072322
CREATED:20251216T162155Z
LAST-MODIFIED:20251216T162155Z
UID:10010418-1778932800-1778950800@82fss.com
SUMMARY:Saturday North Lanes Special
DESCRIPTION:
URL:https://82fss.com/event/saturday-north-lanes-special/2026-05-16/
CATEGORIES:Fun
ATTACH;FMTTYPE=image/jpeg:https://82fss.com/wp-content/uploads/2024/10/Saturday-Special.jpg
END:VEVENT
BEGIN:VEVENT
DTSTART;TZID=UTC:20260523T120000
DTEND;TZID=UTC:20260523T170000
DTSTAMP:20260424T072322
CREATED:20251216T162155Z
LAST-MODIFIED:20251216T162155Z
UID:10010419-1779537600-1779555600@82fss.com
SUMMARY:Saturday North Lanes Special
DESCRIPTION:
URL:https://82fss.com/event/saturday-north-lanes-special/2026-05-23/
CATEGORIES:Fun
ATTACH;FMTTYPE=image/jpeg:https://82fss.com/wp-content/uploads/2024/10/Saturday-Special.jpg
END:VEVENT
BEGIN:VEVENT
DTSTART;TZID=UTC:20260530T120000
DTEND;TZID=UTC:20260530T170000
DTSTAMP:20260424T072322
CREATED:20251216T162155Z
LAST-MODIFIED:20251216T162155Z
UID:10010420-1780142400-1780160400@82fss.com
SUMMARY:Saturday North Lanes Special
DESCRIPTION:
URL:https://82fss.com/event/saturday-north-lanes-special/2026-05-30/
CATEGORIES:Fun
ATTACH;FMTTYPE=image/jpeg:https://82fss.com/wp-content/uploads/2024/10/Saturday-Special.jpg
END:VEVENT
BEGIN:VEVENT
DTSTART;TZID=UTC:20260606T120000
DTEND;TZID=UTC:20260606T170000
DTSTAMP:20260424T072322
CREATED:20251216T162155Z
LAST-MODIFIED:20251216T162155Z
UID:10010421-1780747200-1780765200@82fss.com
SUMMARY:Saturday North Lanes Special
DESCRIPTION:
URL:https://82fss.com/event/saturday-north-lanes-special/2026-06-06/
CATEGORIES:Fun
ATTACH;FMTTYPE=image/jpeg:https://82fss.com/wp-content/uploads/2024/10/Saturday-Special.jpg
END:VEVENT
BEGIN:VEVENT
DTSTART;TZID=UTC:20260613T120000
DTEND;TZID=UTC:20260613T170000
DTSTAMP:20260424T072322
CREATED:20251216T162155Z
LAST-MODIFIED:20251216T162155Z
UID:10010422-1781352000-1781370000@82fss.com
SUMMARY:Saturday North Lanes Special
DESCRIPTION:
URL:https://82fss.com/event/saturday-north-lanes-special/2026-06-13/
CATEGORIES:Fun
ATTACH;FMTTYPE=image/jpeg:https://82fss.com/wp-content/uploads/2024/10/Saturday-Special.jpg
END:VEVENT
BEGIN:VEVENT
DTSTART;TZID=UTC:20260620T120000
DTEND;TZID=UTC:20260620T170000
DTSTAMP:20260424T072322
CREATED:20251216T162155Z
LAST-MODIFIED:20251216T162155Z
UID:10010423-1781956800-1781974800@82fss.com
SUMMARY:Saturday North Lanes Special
DESCRIPTION:
URL:https://82fss.com/event/saturday-north-lanes-special/2026-06-20/
CATEGORIES:Fun
ATTACH;FMTTYPE=image/jpeg:https://82fss.com/wp-content/uploads/2024/10/Saturday-Special.jpg
END:VEVENT
BEGIN:VEVENT
DTSTART;TZID=UTC:20260627T120000
DTEND;TZID=UTC:20260627T170000
DTSTAMP:20260424T072322
CREATED:20251216T162155Z
LAST-MODIFIED:20251216T162155Z
UID:10010424-1782561600-1782579600@82fss.com
SUMMARY:Saturday North Lanes Special
DESCRIPTION:
URL:https://82fss.com/event/saturday-north-lanes-special/2026-06-27/
CATEGORIES:Fun
ATTACH;FMTTYPE=image/jpeg:https://82fss.com/wp-content/uploads/2024/10/Saturday-Special.jpg
END:VEVENT
BEGIN:VEVENT
DTSTART;TZID=UTC:20260704T120000
DTEND;TZID=UTC:20260704T170000
DTSTAMP:20260424T072322
CREATED:20251216T162155Z
LAST-MODIFIED:20251216T162155Z
UID:10010425-1783166400-1783184400@82fss.com
SUMMARY:Saturday North Lanes Special
DESCRIPTION:
URL:https://82fss.com/event/saturday-north-lanes-special/2026-07-04/
CATEGORIES:Fun
ATTACH;FMTTYPE=image/jpeg:https://82fss.com/wp-content/uploads/2024/10/Saturday-Special.jpg
END:VEVENT
BEGIN:VEVENT
DTSTART;TZID=UTC:20260711T120000
DTEND;TZID=UTC:20260711T170000
DTSTAMP:20260424T072322
CREATED:20251216T162155Z
LAST-MODIFIED:20251216T162155Z
UID:10010426-1783771200-1783789200@82fss.com
SUMMARY:Saturday North Lanes Special
DESCRIPTION:
URL:https://82fss.com/event/saturday-north-lanes-special/2026-07-11/
CATEGORIES:Fun
ATTACH;FMTTYPE=image/jpeg:https://82fss.com/wp-content/uploads/2024/10/Saturday-Special.jpg
END:VEVENT
BEGIN:VEVENT
DTSTART;TZID=UTC:20260718T120000
DTEND;TZID=UTC:20260718T170000
DTSTAMP:20260424T072322
CREATED:20251216T162155Z
LAST-MODIFIED:20251216T162155Z
UID:10010427-1784376000-1784394000@82fss.com
SUMMARY:Saturday North Lanes Special
DESCRIPTION:
URL:https://82fss.com/event/saturday-north-lanes-special/2026-07-18/
CATEGORIES:Fun
ATTACH;FMTTYPE=image/jpeg:https://82fss.com/wp-content/uploads/2024/10/Saturday-Special.jpg
END:VEVENT
BEGIN:VEVENT
DTSTART;TZID=UTC:20260725T120000
DTEND;TZID=UTC:20260725T170000
DTSTAMP:20260424T072322
CREATED:20251216T162155Z
LAST-MODIFIED:20251216T162155Z
UID:10010428-1784980800-1784998800@82fss.com
SUMMARY:Saturday North Lanes Special
DESCRIPTION:
URL:https://82fss.com/event/saturday-north-lanes-special/2026-07-25/
CATEGORIES:Fun
ATTACH;FMTTYPE=image/jpeg:https://82fss.com/wp-content/uploads/2024/10/Saturday-Special.jpg
END:VEVENT
BEGIN:VEVENT
DTSTART;TZID=UTC:20260801T120000
DTEND;TZID=UTC:20260801T170000
DTSTAMP:20260424T072322
CREATED:20251216T162155Z
LAST-MODIFIED:20251216T162155Z
UID:10010429-1785585600-1785603600@82fss.com
SUMMARY:Saturday North Lanes Special
DESCRIPTION:
URL:https://82fss.com/event/saturday-north-lanes-special/2026-08-01/
CATEGORIES:Fun
ATTACH;FMTTYPE=image/jpeg:https://82fss.com/wp-content/uploads/2024/10/Saturday-Special.jpg
END:VEVENT
BEGIN:VEVENT
DTSTART;TZID=UTC:20260808T120000
DTEND;TZID=UTC:20260808T170000
DTSTAMP:20260424T072322
CREATED:20251216T162155Z
LAST-MODIFIED:20251216T162155Z
UID:10010430-1786190400-1786208400@82fss.com
SUMMARY:Saturday North Lanes Special
DESCRIPTION:
URL:https://82fss.com/event/saturday-north-lanes-special/2026-08-08/
CATEGORIES:Fun
ATTACH;FMTTYPE=image/jpeg:https://82fss.com/wp-content/uploads/2024/10/Saturday-Special.jpg
END:VEVENT
BEGIN:VEVENT
DTSTART;TZID=UTC:20260815T120000
DTEND;TZID=UTC:20260815T170000
DTSTAMP:20260424T072322
CREATED:20251216T162155Z
LAST-MODIFIED:20251216T162155Z
UID:10010431-1786795200-1786813200@82fss.com
SUMMARY:Saturday North Lanes Special
DESCRIPTION:
URL:https://82fss.com/event/saturday-north-lanes-special/2026-08-15/
CATEGORIES:Fun
ATTACH;FMTTYPE=image/jpeg:https://82fss.com/wp-content/uploads/2024/10/Saturday-Special.jpg
END:VEVENT
BEGIN:VEVENT
DTSTART;TZID=UTC:20260822T120000
DTEND;TZID=UTC:20260822T170000
DTSTAMP:20260424T072322
CREATED:20251216T162155Z
LAST-MODIFIED:20251216T162155Z
UID:10010432-1787400000-1787418000@82fss.com
SUMMARY:Saturday North Lanes Special
DESCRIPTION:
URL:https://82fss.com/event/saturday-north-lanes-special/2026-08-22/
CATEGORIES:Fun
ATTACH;FMTTYPE=image/jpeg:https://82fss.com/wp-content/uploads/2024/10/Saturday-Special.jpg
END:VEVENT
BEGIN:VEVENT
DTSTART;TZID=UTC:20260829T120000
DTEND;TZID=UTC:20260829T170000
DTSTAMP:20260424T072322
CREATED:20251216T162155Z
LAST-MODIFIED:20251216T162155Z
UID:10010433-1788004800-1788022800@82fss.com
SUMMARY:Saturday North Lanes Special
DESCRIPTION:
URL:https://82fss.com/event/saturday-north-lanes-special/2026-08-29/
CATEGORIES:Fun
ATTACH;FMTTYPE=image/jpeg:https://82fss.com/wp-content/uploads/2024/10/Saturday-Special.jpg
END:VEVENT
BEGIN:VEVENT
DTSTART;TZID=UTC:20260905T120000
DTEND;TZID=UTC:20260905T170000
DTSTAMP:20260424T072322
CREATED:20251216T162155Z
LAST-MODIFIED:20251216T162155Z
UID:10010434-1788609600-1788627600@82fss.com
SUMMARY:Saturday North Lanes Special
DESCRIPTION:
URL:https://82fss.com/event/saturday-north-lanes-special/2026-09-05/
CATEGORIES:Fun
ATTACH;FMTTYPE=image/jpeg:https://82fss.com/wp-content/uploads/2024/10/Saturday-Special.jpg
END:VEVENT
BEGIN:VEVENT
DTSTART;TZID=UTC:20260912T120000
DTEND;TZID=UTC:20260912T170000
DTSTAMP:20260424T072322
CREATED:20251216T162155Z
LAST-MODIFIED:20251216T162155Z
UID:10010435-1789214400-1789232400@82fss.com
SUMMARY:Saturday North Lanes Special
DESCRIPTION:
URL:https://82fss.com/event/saturday-north-lanes-special/2026-09-12/
CATEGORIES:Fun
ATTACH;FMTTYPE=image/jpeg:https://82fss.com/wp-content/uploads/2024/10/Saturday-Special.jpg
END:VEVENT
BEGIN:VEVENT
DTSTART;TZID=UTC:20260919T120000
DTEND;TZID=UTC:20260919T170000
DTSTAMP:20260424T072322
CREATED:20251216T162155Z
LAST-MODIFIED:20251216T162155Z
UID:10010436-1789819200-1789837200@82fss.com
SUMMARY:Saturday North Lanes Special
DESCRIPTION:
URL:https://82fss.com/event/saturday-north-lanes-special/2026-09-19/
CATEGORIES:Fun
ATTACH;FMTTYPE=image/jpeg:https://82fss.com/wp-content/uploads/2024/10/Saturday-Special.jpg
END:VEVENT
BEGIN:VEVENT
DTSTART;TZID=UTC:20260926T120000
DTEND;TZID=UTC:20260926T170000
DTSTAMP:20260424T072322
CREATED:20251216T162155Z
LAST-MODIFIED:20251216T162155Z
UID:10010437-1790424000-1790442000@82fss.com
SUMMARY:Saturday North Lanes Special
DESCRIPTION:
URL:https://82fss.com/event/saturday-north-lanes-special/2026-09-26/
CATEGORIES:Fun
ATTACH;FMTTYPE=image/jpeg:https://82fss.com/wp-content/uploads/2024/10/Saturday-Special.jpg
END:VEVENT
BEGIN:VEVENT
DTSTART;TZID=UTC:20261003T120000
DTEND;TZID=UTC:20261003T170000
DTSTAMP:20260424T072322
CREATED:20251216T162155Z
LAST-MODIFIED:20251216T162155Z
UID:10010438-1791028800-1791046800@82fss.com
SUMMARY:Saturday North Lanes Special
DESCRIPTION:
URL:https://82fss.com/event/saturday-north-lanes-special/2026-10-03/
CATEGORIES:Fun
ATTACH;FMTTYPE=image/jpeg:https://82fss.com/wp-content/uploads/2024/10/Saturday-Special.jpg
END:VEVENT
BEGIN:VEVENT
DTSTART;TZID=UTC:20261010T120000
DTEND;TZID=UTC:20261010T170000
DTSTAMP:20260424T072322
CREATED:20251216T162155Z
LAST-MODIFIED:20251216T162155Z
UID:10010439-1791633600-1791651600@82fss.com
SUMMARY:Saturday North Lanes Special
DESCRIPTION:
URL:https://82fss.com/event/saturday-north-lanes-special/2026-10-10/
CATEGORIES:Fun
ATTACH;FMTTYPE=image/jpeg:https://82fss.com/wp-content/uploads/2024/10/Saturday-Special.jpg
END:VEVENT
BEGIN:VEVENT
DTSTART;TZID=UTC:20261017T120000
DTEND;TZID=UTC:20261017T170000
DTSTAMP:20260424T072322
CREATED:20251216T162155Z
LAST-MODIFIED:20251216T162155Z
UID:10010440-1792238400-1792256400@82fss.com
SUMMARY:Saturday North Lanes Special
DESCRIPTION:
URL:https://82fss.com/event/saturday-north-lanes-special/2026-10-17/
CATEGORIES:Fun
ATTACH;FMTTYPE=image/jpeg:https://82fss.com/wp-content/uploads/2024/10/Saturday-Special.jpg
END:VEVENT
BEGIN:VEVENT
DTSTART;TZID=UTC:20261024T120000
DTEND;TZID=UTC:20261024T170000
DTSTAMP:20260424T072322
CREATED:20251216T162155Z
LAST-MODIFIED:20251216T162155Z
UID:10010441-1792843200-1792861200@82fss.com
SUMMARY:Saturday North Lanes Special
DESCRIPTION:
URL:https://82fss.com/event/saturday-north-lanes-special/2026-10-24/
CATEGORIES:Fun
ATTACH;FMTTYPE=image/jpeg:https://82fss.com/wp-content/uploads/2024/10/Saturday-Special.jpg
END:VEVENT
BEGIN:VEVENT
DTSTART;TZID=UTC:20261031T120000
DTEND;TZID=UTC:20261031T170000
DTSTAMP:20260424T072322
CREATED:20251216T162155Z
LAST-MODIFIED:20251216T162155Z
UID:10010442-1793448000-1793466000@82fss.com
SUMMARY:Saturday North Lanes Special
DESCRIPTION:
URL:https://82fss.com/event/saturday-north-lanes-special/2026-10-31/
CATEGORIES:Fun
ATTACH;FMTTYPE=image/jpeg:https://82fss.com/wp-content/uploads/2024/10/Saturday-Special.jpg
END:VEVENT
BEGIN:VEVENT
DTSTART;TZID=UTC:20261107T120000
DTEND;TZID=UTC:20261107T170000
DTSTAMP:20260424T072322
CREATED:20251216T162155Z
LAST-MODIFIED:20251216T162155Z
UID:10010443-1794052800-1794070800@82fss.com
SUMMARY:Saturday North Lanes Special
DESCRIPTION:
URL:https://82fss.com/event/saturday-north-lanes-special/2026-11-07/
CATEGORIES:Fun
ATTACH;FMTTYPE=image/jpeg:https://82fss.com/wp-content/uploads/2024/10/Saturday-Special.jpg
END:VEVENT
BEGIN:VEVENT
DTSTART;TZID=UTC:20261114T120000
DTEND;TZID=UTC:20261114T170000
DTSTAMP:20260424T072322
CREATED:20251216T162155Z
LAST-MODIFIED:20251216T162155Z
UID:10010444-1794657600-1794675600@82fss.com
SUMMARY:Saturday North Lanes Special
DESCRIPTION:
URL:https://82fss.com/event/saturday-north-lanes-special/2026-11-14/
CATEGORIES:Fun
ATTACH;FMTTYPE=image/jpeg:https://82fss.com/wp-content/uploads/2024/10/Saturday-Special.jpg
END:VEVENT
END:VCALENDAR