BEGIN:VCALENDAR
VERSION:2.0
PRODID:-//Sheppard AFB - ECPv6.15.20//NONSGML v1.0//EN
CALSCALE:GREGORIAN
METHOD:PUBLISH
X-WR-CALNAME:Sheppard AFB
X-ORIGINAL-URL:https://82fss.com
X-WR-CALDESC:Events for Sheppard AFB
REFRESH-INTERVAL;VALUE=DURATION:PT1H
X-Robots-Tag:noindex
X-PUBLISHED-TTL:PT1H
BEGIN:VTIMEZONE
TZID:UTC
BEGIN:STANDARD
TZOFFSETFROM:+0000
TZOFFSETTO:+0000
TZNAME:UTC
DTSTART:20250101T000000
END:STANDARD
END:VTIMEZONE
BEGIN:VEVENT
DTSTART;TZID=UTC:20260426T120000
DTEND;TZID=UTC:20260426T170000
DTSTAMP:20260424T074529
CREATED:20251216T162823Z
LAST-MODIFIED:20251216T162823Z
UID:10010515-1777204800-1777222800@82fss.com
SUMMARY:North Lanes Red Pin Bowling
DESCRIPTION:
URL:https://82fss.com/event/north-lanes-red-pin-bowling/2026-04-26/
CATEGORIES:Food,Fun
ATTACH;FMTTYPE=image/jpeg:https://82fss.com/wp-content/uploads/2025/01/N-Red-Pin-Bowling.jpg
END:VEVENT
BEGIN:VEVENT
DTSTART;TZID=UTC:20260503T120000
DTEND;TZID=UTC:20260503T170000
DTSTAMP:20260424T074529
CREATED:20251216T162823Z
LAST-MODIFIED:20251216T162823Z
UID:10010516-1777809600-1777827600@82fss.com
SUMMARY:North Lanes Red Pin Bowling
DESCRIPTION:
URL:https://82fss.com/event/north-lanes-red-pin-bowling/2026-05-03/
CATEGORIES:Food,Fun
ATTACH;FMTTYPE=image/jpeg:https://82fss.com/wp-content/uploads/2025/01/N-Red-Pin-Bowling.jpg
END:VEVENT
BEGIN:VEVENT
DTSTART;TZID=UTC:20260510T120000
DTEND;TZID=UTC:20260510T170000
DTSTAMP:20260424T074529
CREATED:20251216T162823Z
LAST-MODIFIED:20251216T162823Z
UID:10010517-1778414400-1778432400@82fss.com
SUMMARY:North Lanes Red Pin Bowling
DESCRIPTION:
URL:https://82fss.com/event/north-lanes-red-pin-bowling/2026-05-10/
CATEGORIES:Food,Fun
ATTACH;FMTTYPE=image/jpeg:https://82fss.com/wp-content/uploads/2025/01/N-Red-Pin-Bowling.jpg
END:VEVENT
BEGIN:VEVENT
DTSTART;TZID=UTC:20260517T120000
DTEND;TZID=UTC:20260517T170000
DTSTAMP:20260424T074529
CREATED:20251216T162823Z
LAST-MODIFIED:20251216T162823Z
UID:10010518-1779019200-1779037200@82fss.com
SUMMARY:North Lanes Red Pin Bowling
DESCRIPTION:
URL:https://82fss.com/event/north-lanes-red-pin-bowling/2026-05-17/
CATEGORIES:Food,Fun
ATTACH;FMTTYPE=image/jpeg:https://82fss.com/wp-content/uploads/2025/01/N-Red-Pin-Bowling.jpg
END:VEVENT
BEGIN:VEVENT
DTSTART;TZID=UTC:20260524T120000
DTEND;TZID=UTC:20260524T170000
DTSTAMP:20260424T074529
CREATED:20251216T162823Z
LAST-MODIFIED:20251216T162823Z
UID:10010519-1779624000-1779642000@82fss.com
SUMMARY:North Lanes Red Pin Bowling
DESCRIPTION:
URL:https://82fss.com/event/north-lanes-red-pin-bowling/2026-05-24/
CATEGORIES:Food,Fun
ATTACH;FMTTYPE=image/jpeg:https://82fss.com/wp-content/uploads/2025/01/N-Red-Pin-Bowling.jpg
END:VEVENT
BEGIN:VEVENT
DTSTART;TZID=UTC:20260531T120000
DTEND;TZID=UTC:20260531T170000
DTSTAMP:20260424T074529
CREATED:20251216T162823Z
LAST-MODIFIED:20251216T162823Z
UID:10010520-1780228800-1780246800@82fss.com
SUMMARY:North Lanes Red Pin Bowling
DESCRIPTION:
URL:https://82fss.com/event/north-lanes-red-pin-bowling/2026-05-31/
CATEGORIES:Food,Fun
ATTACH;FMTTYPE=image/jpeg:https://82fss.com/wp-content/uploads/2025/01/N-Red-Pin-Bowling.jpg
END:VEVENT
BEGIN:VEVENT
DTSTART;TZID=UTC:20260607T120000
DTEND;TZID=UTC:20260607T170000
DTSTAMP:20260424T074529
CREATED:20251216T162823Z
LAST-MODIFIED:20251216T162823Z
UID:10010521-1780833600-1780851600@82fss.com
SUMMARY:North Lanes Red Pin Bowling
DESCRIPTION:
URL:https://82fss.com/event/north-lanes-red-pin-bowling/2026-06-07/
CATEGORIES:Food,Fun
ATTACH;FMTTYPE=image/jpeg:https://82fss.com/wp-content/uploads/2025/01/N-Red-Pin-Bowling.jpg
END:VEVENT
BEGIN:VEVENT
DTSTART;TZID=UTC:20260614T120000
DTEND;TZID=UTC:20260614T170000
DTSTAMP:20260424T074529
CREATED:20251216T162823Z
LAST-MODIFIED:20251216T162823Z
UID:10010522-1781438400-1781456400@82fss.com
SUMMARY:North Lanes Red Pin Bowling
DESCRIPTION:
URL:https://82fss.com/event/north-lanes-red-pin-bowling/2026-06-14/
CATEGORIES:Food,Fun
ATTACH;FMTTYPE=image/jpeg:https://82fss.com/wp-content/uploads/2025/01/N-Red-Pin-Bowling.jpg
END:VEVENT
BEGIN:VEVENT
DTSTART;TZID=UTC:20260621T120000
DTEND;TZID=UTC:20260621T170000
DTSTAMP:20260424T074529
CREATED:20251216T162823Z
LAST-MODIFIED:20251216T162823Z
UID:10010523-1782043200-1782061200@82fss.com
SUMMARY:North Lanes Red Pin Bowling
DESCRIPTION:
URL:https://82fss.com/event/north-lanes-red-pin-bowling/2026-06-21/
CATEGORIES:Food,Fun
ATTACH;FMTTYPE=image/jpeg:https://82fss.com/wp-content/uploads/2025/01/N-Red-Pin-Bowling.jpg
END:VEVENT
BEGIN:VEVENT
DTSTART;TZID=UTC:20260628T120000
DTEND;TZID=UTC:20260628T170000
DTSTAMP:20260424T074529
CREATED:20251216T162823Z
LAST-MODIFIED:20251216T162823Z
UID:10010524-1782648000-1782666000@82fss.com
SUMMARY:North Lanes Red Pin Bowling
DESCRIPTION:
URL:https://82fss.com/event/north-lanes-red-pin-bowling/2026-06-28/
CATEGORIES:Food,Fun
ATTACH;FMTTYPE=image/jpeg:https://82fss.com/wp-content/uploads/2025/01/N-Red-Pin-Bowling.jpg
END:VEVENT
BEGIN:VEVENT
DTSTART;TZID=UTC:20260705T120000
DTEND;TZID=UTC:20260705T170000
DTSTAMP:20260424T074529
CREATED:20251216T162823Z
LAST-MODIFIED:20251216T162823Z
UID:10010525-1783252800-1783270800@82fss.com
SUMMARY:North Lanes Red Pin Bowling
DESCRIPTION:
URL:https://82fss.com/event/north-lanes-red-pin-bowling/2026-07-05/
CATEGORIES:Food,Fun
ATTACH;FMTTYPE=image/jpeg:https://82fss.com/wp-content/uploads/2025/01/N-Red-Pin-Bowling.jpg
END:VEVENT
BEGIN:VEVENT
DTSTART;TZID=UTC:20260712T120000
DTEND;TZID=UTC:20260712T170000
DTSTAMP:20260424T074529
CREATED:20251216T162823Z
LAST-MODIFIED:20251216T162823Z
UID:10010526-1783857600-1783875600@82fss.com
SUMMARY:North Lanes Red Pin Bowling
DESCRIPTION:
URL:https://82fss.com/event/north-lanes-red-pin-bowling/2026-07-12/
CATEGORIES:Food,Fun
ATTACH;FMTTYPE=image/jpeg:https://82fss.com/wp-content/uploads/2025/01/N-Red-Pin-Bowling.jpg
END:VEVENT
BEGIN:VEVENT
DTSTART;TZID=UTC:20260719T120000
DTEND;TZID=UTC:20260719T170000
DTSTAMP:20260424T074529
CREATED:20251216T162823Z
LAST-MODIFIED:20251216T162823Z
UID:10010527-1784462400-1784480400@82fss.com
SUMMARY:North Lanes Red Pin Bowling
DESCRIPTION:
URL:https://82fss.com/event/north-lanes-red-pin-bowling/2026-07-19/
CATEGORIES:Food,Fun
ATTACH;FMTTYPE=image/jpeg:https://82fss.com/wp-content/uploads/2025/01/N-Red-Pin-Bowling.jpg
END:VEVENT
BEGIN:VEVENT
DTSTART;TZID=UTC:20260726T120000
DTEND;TZID=UTC:20260726T170000
DTSTAMP:20260424T074529
CREATED:20251216T162823Z
LAST-MODIFIED:20251216T162823Z
UID:10010528-1785067200-1785085200@82fss.com
SUMMARY:North Lanes Red Pin Bowling
DESCRIPTION:
URL:https://82fss.com/event/north-lanes-red-pin-bowling/2026-07-26/
CATEGORIES:Food,Fun
ATTACH;FMTTYPE=image/jpeg:https://82fss.com/wp-content/uploads/2025/01/N-Red-Pin-Bowling.jpg
END:VEVENT
BEGIN:VEVENT
DTSTART;TZID=UTC:20260802T120000
DTEND;TZID=UTC:20260802T170000
DTSTAMP:20260424T074529
CREATED:20251216T162823Z
LAST-MODIFIED:20251216T162823Z
UID:10010529-1785672000-1785690000@82fss.com
SUMMARY:North Lanes Red Pin Bowling
DESCRIPTION:
URL:https://82fss.com/event/north-lanes-red-pin-bowling/2026-08-02/
CATEGORIES:Food,Fun
ATTACH;FMTTYPE=image/jpeg:https://82fss.com/wp-content/uploads/2025/01/N-Red-Pin-Bowling.jpg
END:VEVENT
BEGIN:VEVENT
DTSTART;TZID=UTC:20260809T120000
DTEND;TZID=UTC:20260809T170000
DTSTAMP:20260424T074529
CREATED:20251216T162823Z
LAST-MODIFIED:20251216T162823Z
UID:10010530-1786276800-1786294800@82fss.com
SUMMARY:North Lanes Red Pin Bowling
DESCRIPTION:
URL:https://82fss.com/event/north-lanes-red-pin-bowling/2026-08-09/
CATEGORIES:Food,Fun
ATTACH;FMTTYPE=image/jpeg:https://82fss.com/wp-content/uploads/2025/01/N-Red-Pin-Bowling.jpg
END:VEVENT
BEGIN:VEVENT
DTSTART;TZID=UTC:20260816T120000
DTEND;TZID=UTC:20260816T170000
DTSTAMP:20260424T074529
CREATED:20251216T162823Z
LAST-MODIFIED:20251216T162823Z
UID:10010531-1786881600-1786899600@82fss.com
SUMMARY:North Lanes Red Pin Bowling
DESCRIPTION:
URL:https://82fss.com/event/north-lanes-red-pin-bowling/2026-08-16/
CATEGORIES:Food,Fun
ATTACH;FMTTYPE=image/jpeg:https://82fss.com/wp-content/uploads/2025/01/N-Red-Pin-Bowling.jpg
END:VEVENT
BEGIN:VEVENT
DTSTART;TZID=UTC:20260823T120000
DTEND;TZID=UTC:20260823T170000
DTSTAMP:20260424T074529
CREATED:20251216T162823Z
LAST-MODIFIED:20251216T162823Z
UID:10010532-1787486400-1787504400@82fss.com
SUMMARY:North Lanes Red Pin Bowling
DESCRIPTION:
URL:https://82fss.com/event/north-lanes-red-pin-bowling/2026-08-23/
CATEGORIES:Food,Fun
ATTACH;FMTTYPE=image/jpeg:https://82fss.com/wp-content/uploads/2025/01/N-Red-Pin-Bowling.jpg
END:VEVENT
BEGIN:VEVENT
DTSTART;TZID=UTC:20260830T120000
DTEND;TZID=UTC:20260830T170000
DTSTAMP:20260424T074529
CREATED:20251216T162823Z
LAST-MODIFIED:20251216T162823Z
UID:10010533-1788091200-1788109200@82fss.com
SUMMARY:North Lanes Red Pin Bowling
DESCRIPTION:
URL:https://82fss.com/event/north-lanes-red-pin-bowling/2026-08-30/
CATEGORIES:Food,Fun
ATTACH;FMTTYPE=image/jpeg:https://82fss.com/wp-content/uploads/2025/01/N-Red-Pin-Bowling.jpg
END:VEVENT
BEGIN:VEVENT
DTSTART;TZID=UTC:20260906T120000
DTEND;TZID=UTC:20260906T170000
DTSTAMP:20260424T074529
CREATED:20251216T162823Z
LAST-MODIFIED:20251216T162823Z
UID:10010534-1788696000-1788714000@82fss.com
SUMMARY:North Lanes Red Pin Bowling
DESCRIPTION:
URL:https://82fss.com/event/north-lanes-red-pin-bowling/2026-09-06/
CATEGORIES:Food,Fun
ATTACH;FMTTYPE=image/jpeg:https://82fss.com/wp-content/uploads/2025/01/N-Red-Pin-Bowling.jpg
END:VEVENT
BEGIN:VEVENT
DTSTART;TZID=UTC:20260913T120000
DTEND;TZID=UTC:20260913T170000
DTSTAMP:20260424T074529
CREATED:20251216T162823Z
LAST-MODIFIED:20251216T162823Z
UID:10010535-1789300800-1789318800@82fss.com
SUMMARY:North Lanes Red Pin Bowling
DESCRIPTION:
URL:https://82fss.com/event/north-lanes-red-pin-bowling/2026-09-13/
CATEGORIES:Food,Fun
ATTACH;FMTTYPE=image/jpeg:https://82fss.com/wp-content/uploads/2025/01/N-Red-Pin-Bowling.jpg
END:VEVENT
BEGIN:VEVENT
DTSTART;TZID=UTC:20260920T120000
DTEND;TZID=UTC:20260920T170000
DTSTAMP:20260424T074529
CREATED:20251216T162823Z
LAST-MODIFIED:20251216T162823Z
UID:10010536-1789905600-1789923600@82fss.com
SUMMARY:North Lanes Red Pin Bowling
DESCRIPTION:
URL:https://82fss.com/event/north-lanes-red-pin-bowling/2026-09-20/
CATEGORIES:Food,Fun
ATTACH;FMTTYPE=image/jpeg:https://82fss.com/wp-content/uploads/2025/01/N-Red-Pin-Bowling.jpg
END:VEVENT
BEGIN:VEVENT
DTSTART;TZID=UTC:20260927T120000
DTEND;TZID=UTC:20260927T170000
DTSTAMP:20260424T074529
CREATED:20251216T162823Z
LAST-MODIFIED:20251216T162823Z
UID:10010537-1790510400-1790528400@82fss.com
SUMMARY:North Lanes Red Pin Bowling
DESCRIPTION:
URL:https://82fss.com/event/north-lanes-red-pin-bowling/2026-09-27/
CATEGORIES:Food,Fun
ATTACH;FMTTYPE=image/jpeg:https://82fss.com/wp-content/uploads/2025/01/N-Red-Pin-Bowling.jpg
END:VEVENT
BEGIN:VEVENT
DTSTART;TZID=UTC:20261004T120000
DTEND;TZID=UTC:20261004T170000
DTSTAMP:20260424T074529
CREATED:20251216T162823Z
LAST-MODIFIED:20251216T162823Z
UID:10010538-1791115200-1791133200@82fss.com
SUMMARY:North Lanes Red Pin Bowling
DESCRIPTION:
URL:https://82fss.com/event/north-lanes-red-pin-bowling/2026-10-04/
CATEGORIES:Food,Fun
ATTACH;FMTTYPE=image/jpeg:https://82fss.com/wp-content/uploads/2025/01/N-Red-Pin-Bowling.jpg
END:VEVENT
BEGIN:VEVENT
DTSTART;TZID=UTC:20261011T120000
DTEND;TZID=UTC:20261011T170000
DTSTAMP:20260424T074529
CREATED:20251216T162823Z
LAST-MODIFIED:20251216T162823Z
UID:10010539-1791720000-1791738000@82fss.com
SUMMARY:North Lanes Red Pin Bowling
DESCRIPTION:
URL:https://82fss.com/event/north-lanes-red-pin-bowling/2026-10-11/
CATEGORIES:Food,Fun
ATTACH;FMTTYPE=image/jpeg:https://82fss.com/wp-content/uploads/2025/01/N-Red-Pin-Bowling.jpg
END:VEVENT
BEGIN:VEVENT
DTSTART;TZID=UTC:20261018T120000
DTEND;TZID=UTC:20261018T170000
DTSTAMP:20260424T074529
CREATED:20251216T162823Z
LAST-MODIFIED:20251216T162823Z
UID:10010540-1792324800-1792342800@82fss.com
SUMMARY:North Lanes Red Pin Bowling
DESCRIPTION:
URL:https://82fss.com/event/north-lanes-red-pin-bowling/2026-10-18/
CATEGORIES:Food,Fun
ATTACH;FMTTYPE=image/jpeg:https://82fss.com/wp-content/uploads/2025/01/N-Red-Pin-Bowling.jpg
END:VEVENT
BEGIN:VEVENT
DTSTART;TZID=UTC:20261025T120000
DTEND;TZID=UTC:20261025T170000
DTSTAMP:20260424T074529
CREATED:20251216T162823Z
LAST-MODIFIED:20251216T162823Z
UID:10010541-1792929600-1792947600@82fss.com
SUMMARY:North Lanes Red Pin Bowling
DESCRIPTION:
URL:https://82fss.com/event/north-lanes-red-pin-bowling/2026-10-25/
CATEGORIES:Food,Fun
ATTACH;FMTTYPE=image/jpeg:https://82fss.com/wp-content/uploads/2025/01/N-Red-Pin-Bowling.jpg
END:VEVENT
BEGIN:VEVENT
DTSTART;TZID=UTC:20261101T120000
DTEND;TZID=UTC:20261101T170000
DTSTAMP:20260424T074529
CREATED:20251216T162823Z
LAST-MODIFIED:20251216T162823Z
UID:10010542-1793534400-1793552400@82fss.com
SUMMARY:North Lanes Red Pin Bowling
DESCRIPTION:
URL:https://82fss.com/event/north-lanes-red-pin-bowling/2026-11-01/
CATEGORIES:Food,Fun
ATTACH;FMTTYPE=image/jpeg:https://82fss.com/wp-content/uploads/2025/01/N-Red-Pin-Bowling.jpg
END:VEVENT
BEGIN:VEVENT
DTSTART;TZID=UTC:20261108T120000
DTEND;TZID=UTC:20261108T170000
DTSTAMP:20260424T074529
CREATED:20251216T162823Z
LAST-MODIFIED:20251216T162823Z
UID:10010543-1794139200-1794157200@82fss.com
SUMMARY:North Lanes Red Pin Bowling
DESCRIPTION:
URL:https://82fss.com/event/north-lanes-red-pin-bowling/2026-11-08/
CATEGORIES:Food,Fun
ATTACH;FMTTYPE=image/jpeg:https://82fss.com/wp-content/uploads/2025/01/N-Red-Pin-Bowling.jpg
END:VEVENT
BEGIN:VEVENT
DTSTART;TZID=UTC:20261115T120000
DTEND;TZID=UTC:20261115T170000
DTSTAMP:20260424T074529
CREATED:20251216T162823Z
LAST-MODIFIED:20251216T162823Z
UID:10010544-1794744000-1794762000@82fss.com
SUMMARY:North Lanes Red Pin Bowling
DESCRIPTION:
URL:https://82fss.com/event/north-lanes-red-pin-bowling/2026-11-15/
CATEGORIES:Food,Fun
ATTACH;FMTTYPE=image/jpeg:https://82fss.com/wp-content/uploads/2025/01/N-Red-Pin-Bowling.jpg
END:VEVENT
END:VCALENDAR